BEGIN:VCALENDAR
VERSION:2.0
PRODID:-//AudioTheme 2.3.8
BEGIN:VEVENT
UID:urn:uuid:ac0dd371-48d4-4736-8d0d-5b0b987da8de
URL:https://mitchmcvicker.com/concerts/gig-1386/
DTSTART;VALUE=DATE:20130222
SUMMARY:Blessed Sacrament Church
LOCATION:Blessed Sacrament Church\, Tonawanda\, NY
END:VEVENT
END:VCALENDAR
