BEGIN:VCALENDAR
VERSION:2.0
PRODID:-//AudioTheme 2.3.8
BEGIN:VEVENT
UID:urn:uuid:fc2c49f7-9b18-4f9d-a229-93142562c54f
URL:https://mitchmcvicker.com/concerts/gig-1384/
DTSTART;VALUE=DATE:20130211
SUMMARY:WJTL-The Junction Center
LOCATION:WJTL-The Junction Center\, Manheim\, PA
END:VEVENT
END:VCALENDAR
