BEGIN:VCALENDAR
VERSION:2.0
PRODID:-//AudioTheme 2.3.8
BEGIN:VEVENT
UID:urn:uuid:c110161a-406f-453a-8bb0-949af6a1e0eb
URL:https://mitchmcvicker.com/concerts/gig-1382/
DTSTART;VALUE=DATE:20130209
SUMMARY:Masonboro Baptist Church
LOCATION:Masonboro Baptist Church\, Wilmington\, NC
END:VEVENT
END:VCALENDAR
