BEGIN:VCALENDAR
VERSION:2.0
PRODID:-//AudioTheme 2.3.8
BEGIN:VEVENT
UID:urn:uuid:244fa62c-3539-46f8-93ad-774fc0dbde9d
URL:https://mitchmcvicker.com/concerts/gig-1380/
DTSTART;VALUE=DATE:20141213
SUMMARY:The Bridge Church
LOCATION:The Bridge Church\, Bristol\, TN
END:VEVENT
END:VCALENDAR
