BEGIN:VCALENDAR
VERSION:2.0
PRODID:-//AudioTheme 2.3.8
BEGIN:VEVENT
UID:urn:uuid:be5a365c-02ed-493c-b54b-481adc57a432
URL:https://mitchmcvicker.com/concerts/gig-1378/
DTSTART;VALUE=DATE:20141115
SUMMARY:Grace Reformed Church
LOCATION:Grace Reformed Church\, Waterloo\, IA
END:VEVENT
END:VCALENDAR
