BEGIN:VCALENDAR
VERSION:2.0
PRODID:-//AudioTheme 2.3.8
BEGIN:VEVENT
UID:urn:uuid:f49a0b8a-c6c0-484d-8956-1a005af5c74a
URL:https://mitchmcvicker.com/concerts/gig-1376/
DTSTART;VALUE=DATE:20141114
SUMMARY:Jesus Fellowship of Believers Church
LOCATION:Jesus Fellowship of Believers Church\, Duluth\, MN
END:VEVENT
END:VCALENDAR
