BEGIN:VCALENDAR
VERSION:2.0
PRODID:-//AudioTheme 2.3.8
BEGIN:VEVENT
UID:urn:uuid:15583ee1-9e11-4c73-b0ba-a2c75870547e
URL:https://mitchmcvicker.com/concerts/gig-1375/
DTSTART;VALUE=DATE:20141113
SUMMARY:Topeka  Free Methodist Church
LOCATION:Topeka  Free Methodist Church\, 3450 SE Indiana Ave\, Topeka\, KS
END:VEVENT
END:VCALENDAR
