BEGIN:VCALENDAR
VERSION:2.0
PRODID:-//AudioTheme 2.3.8
BEGIN:VEVENT
UID:urn:uuid:2cebddc3-9acd-4752-9551-b75f5e3cbd49
URL:https://mitchmcvicker.com/concerts/gig-1373/
DTSTART;VALUE=DATE:20141112
SUMMARY:Legacy Bible Church
LOCATION:Legacy Bible Church\, Dennison\, TX
END:VEVENT
END:VCALENDAR
