BEGIN:VCALENDAR
VERSION:2.0
PRODID:-//AudioTheme 2.3.8
BEGIN:VEVENT
UID:urn:uuid:0d8ff8d3-e900-432f-bc55-5377403d08a8
URL:https://mitchmcvicker.com/concerts/gig-1370/
DTSTART;VALUE=DATE:20141106
SUMMARY:Brothers Keeper Church
LOCATION:Brothers Keeper Church\, 280 Homer Cemetery Rd\, Lufkin\, TX
END:VEVENT
END:VCALENDAR
