BEGIN:VCALENDAR
VERSION:2.0
PRODID:-//AudioTheme 2.3.8
BEGIN:VEVENT
UID:urn:uuid:eca8a120-3646-4504-81d8-262031776f75
URL:https://mitchmcvicker.com/concerts/gig-1368/
DTSTART;VALUE=DATE:20141105
SUMMARY:Faith United Methodist Church
LOCATION:Faith United Methodist Church\, Denton\, TX
END:VEVENT
END:VCALENDAR
