BEGIN:VCALENDAR
VERSION:2.0
PRODID:-//AudioTheme 2.3.8
BEGIN:VEVENT
UID:urn:uuid:1be3c2f9-62a5-4764-a62d-dfd052c77549
URL:https://mitchmcvicker.com/concerts/gig-1366/
DTSTART;VALUE=DATE:20141104
SUMMARY:1367
LOCATION:1367
END:VEVENT
END:VCALENDAR
