BEGIN:VCALENDAR
VERSION:2.0
PRODID:-//AudioTheme 2.3.8
BEGIN:VEVENT
UID:urn:uuid:343bd0b3-105e-4954-ac35-c20116d455d6
URL:https://mitchmcvicker.com/concerts/gig-1364/
DTSTART;VALUE=DATE:20141102
SUMMARY:Solid Rock Bible Fellowship
LOCATION:Solid Rock Bible Fellowship\, Napoleon\, IN
END:VEVENT
END:VCALENDAR
