BEGIN:VCALENDAR
VERSION:2.0
PRODID:-//AudioTheme 2.3.8
BEGIN:VEVENT
UID:urn:uuid:39b7c5bc-6e95-4916-b416-0b97a135d07b
URL:https://mitchmcvicker.com/concerts/gig-1362/
DTSTART;VALUE=DATE:20141010
SUMMARY:The Mill Church Cafe
LOCATION:The Mill Church Cafe\, Millbury\, MA
END:VEVENT
END:VCALENDAR
