BEGIN:VCALENDAR
VERSION:2.0
PRODID:-//AudioTheme 2.3.8
BEGIN:VEVENT
UID:urn:uuid:12af9564-2662-4d0d-a5fb-7e2ecd26a847
URL:https://mitchmcvicker.com/concerts/gig-1361/
DTSTART;VALUE=DATE:20141027
SUMMARY:Shalom Baptist Church
LOCATION:Shalom Baptist Church\, 259 S 2nd St\, Byesville\, OH\, 43723
END:VEVENT
END:VCALENDAR
