BEGIN:VCALENDAR
VERSION:2.0
PRODID:-//AudioTheme 2.3.8
BEGIN:VEVENT
UID:urn:uuid:eebfaf1a-7c69-428b-a71f-3fc297d74e0a
URL:https://mitchmcvicker.com/concerts/gig-1359/
DTSTART;VALUE=DATE:20141026
SUMMARY:Junction Center
LOCATION:Junction Center\, Manheim\, PA
END:VEVENT
END:VCALENDAR
