BEGIN:VCALENDAR
VERSION:2.0
PRODID:-//AudioTheme 2.3.8
BEGIN:VEVENT
UID:urn:uuid:5fb87b24-39da-433a-a2a1-d37fbd513570
URL:https://mitchmcvicker.com/concerts/gig-1358/
DTSTART;VALUE=DATE:20141024
SUMMARY:Camp Christian
LOCATION:Camp Christian\, Mill Run\, PA
END:VEVENT
END:VCALENDAR
