BEGIN:VCALENDAR
VERSION:2.0
PRODID:-//AudioTheme 2.3.8
BEGIN:VEVENT
UID:urn:uuid:a0c1ffd1-a09e-443a-888e-028546530e7f
URL:https://mitchmcvicker.com/concerts/gig-1356/
DTSTART;VALUE=DATE:20141019
SUMMARY:St. Paul Lutheran Church and School
LOCATION:St. Paul Lutheran Church and School\, Batavia\, NY
END:VEVENT
END:VCALENDAR
