BEGIN:VCALENDAR
VERSION:2.0
PRODID:-//AudioTheme 2.3.8
BEGIN:VEVENT
UID:urn:uuid:88aec0ea-9fe4-4d7c-bc7c-d669c4bf2a7b
URL:https://mitchmcvicker.com/concerts/gig-1354/
DTSTART;VALUE=DATE:20141017
SUMMARY:Briarwood Church
LOCATION:Briarwood Church\, Ringgold\, GA
END:VEVENT
END:VCALENDAR
