BEGIN:VCALENDAR
VERSION:2.0
PRODID:-//AudioTheme 2.3.8
BEGIN:VEVENT
UID:urn:uuid:8c8b37e0-e8e1-4b10-9a99-e0d960bb6c12
URL:https://mitchmcvicker.com/concerts/gig-1352/
DTSTART;VALUE=DATE:20141012
SUMMARY:Harvest Community Church
LOCATION:Harvest Community Church\, Woonsocket\, RI
END:VEVENT
END:VCALENDAR
