BEGIN:VCALENDAR
VERSION:2.0
PRODID:-//AudioTheme 2.3.8
BEGIN:VEVENT
UID:urn:uuid:f4bd0c05-59ba-4fe0-96f4-855240f33e79
URL:https://mitchmcvicker.com/concerts/gig-1350/
DTSTART;VALUE=DATE:20141012
SUMMARY:First Congregational Church
LOCATION:First Congregational Church\, 3 Common St.\, Douglas\, MA
END:VEVENT
END:VCALENDAR
