BEGIN:VCALENDAR
VERSION:2.0
PRODID:-//AudioTheme 2.3.8
BEGIN:VEVENT
UID:urn:uuid:700784c7-ecba-479d-9361-2556ad8074ce
URL:https://mitchmcvicker.com/concerts/gig-135/
DTSTART;TZID=GMT:20170520T000000
SUMMARY:Shaw Shendig
LOCATION:Shaw Shendig\, 1909 Western Justice\, Leander\, TX\, USA\, 78641
END:VEVENT
END:VCALENDAR
