BEGIN:VCALENDAR
VERSION:2.0
PRODID:-//AudioTheme 2.3.8
BEGIN:VEVENT
UID:urn:uuid:3a4dcf07-487c-4779-a61f-fb44aebbf4f9
URL:https://mitchmcvicker.com/concerts/gig-1344/
DTSTART;VALUE=DATE:20141009
SUMMARY:Grace and Peace Community Fellowship
LOCATION:Grace and Peace Community Fellowship\, Philadelphia\, PA
END:VEVENT
END:VCALENDAR
