BEGIN:VCALENDAR
VERSION:2.0
PRODID:-//AudioTheme 2.3.8
BEGIN:VEVENT
UID:urn:uuid:1df041c4-7a8e-42b7-b35d-12e66b575c6f
URL:https://mitchmcvicker.com/concerts/gig-1343/
DTSTART;VALUE=DATE:20141008
SUMMARY:Zion Lutheran Church
LOCATION:Zion Lutheran Church\, 2215 Brandywine Lane\, York\, PA\, 17404
END:VEVENT
END:VCALENDAR
