BEGIN:VCALENDAR
VERSION:2.0
PRODID:-//AudioTheme 2.3.8
BEGIN:VEVENT
UID:urn:uuid:ead01e7e-17ba-4380-8e80-0e1e1f46ed74
URL:https://mitchmcvicker.com/concerts/gig-1340/
DTSTART;VALUE=DATE:20140928
SUMMARY:Beautiful Savior Lutheran Church
LOCATION:Beautiful Savior Lutheran Church\, Powell\, OH
END:VEVENT
END:VCALENDAR
