BEGIN:VCALENDAR
VERSION:2.0
PRODID:-//AudioTheme 2.3.8
BEGIN:VEVENT
UID:urn:uuid:41b63962-5341-4481-92da-23ddc426c64c
URL:https://mitchmcvicker.com/concerts/gig-1338/
DTSTART;VALUE=DATE:20140927
SUMMARY:The Merge
LOCATION:The Merge\, St. Peters\, MO
END:VEVENT
END:VCALENDAR
