BEGIN:VCALENDAR
VERSION:2.0
PRODID:-//AudioTheme 2.3.8
BEGIN:VEVENT
UID:urn:uuid:783b64b0-7e78-4683-90ab-4d6f115bcc93
URL:https://mitchmcvicker.com/concerts/gig-1336/
DTSTART;VALUE=DATE:20140926
SUMMARY:Bement United Methodist Church
LOCATION:Bement United Methodist Church\, Bement\, IL
END:VEVENT
END:VCALENDAR
