BEGIN:VCALENDAR
VERSION:2.0
PRODID:-//AudioTheme 2.3.8
BEGIN:VEVENT
UID:urn:uuid:9e1948b1-5d6d-4135-bfc2-f4cf60a570cc
URL:https://mitchmcvicker.com/concerts/gig-1334/
DTSTART;VALUE=DATE:20140925
SUMMARY:Faith Church-Valpo
LOCATION:Faith Church-Valpo\, Valparaiso\, IN
END:VEVENT
END:VCALENDAR
