BEGIN:VCALENDAR
VERSION:2.0
PRODID:-//AudioTheme 2.3.8
BEGIN:VEVENT
UID:urn:uuid:201e7c8d-778e-421a-9963-0bae0a9eeeed
URL:https://mitchmcvicker.com/concerts/gig-1332/
DTSTART;VALUE=DATE:20140924
SUMMARY:Pleasant View Church of Christ
LOCATION:Pleasant View Church of Christ\, Angola\, IN
END:VEVENT
END:VCALENDAR
