BEGIN:VCALENDAR
VERSION:2.0
PRODID:-//AudioTheme 2.3.8
BEGIN:VEVENT
UID:urn:uuid:a573ccaf-4a3d-46a8-8c87-f1f582f9e85c
URL:https://mitchmcvicker.com/concerts/gig-1330/
DTSTART;VALUE=DATE:20140912
SUMMARY:Michindoh Conference Center
LOCATION:Michindoh Conference Center\, Hillsdale\, MI
END:VEVENT
END:VCALENDAR
