BEGIN:VCALENDAR
VERSION:2.0
PRODID:-//AudioTheme 2.3.8
BEGIN:VEVENT
UID:urn:uuid:63a56999-2a97-4b82-a78e-1979fa9c3f13
URL:https://mitchmcvicker.com/concerts/gig-1328/
DTSTART;VALUE=DATE:20140907
SUMMARY:Kentwood Christian Church
LOCATION:Kentwood Christian Church\, Grand Rapids\, MI
END:VEVENT
END:VCALENDAR
