BEGIN:VCALENDAR
VERSION:2.0
PRODID:-//AudioTheme 2.3.8
BEGIN:VEVENT
UID:urn:uuid:126a558d-d62f-4bc7-84df-34643e5b98be
URL:https://mitchmcvicker.com/concerts/gig-1324/
DTSTART;VALUE=DATE:20140905
SUMMARY:Fourtowns United Methodist Church
LOCATION:Fourtowns United Methodist Church\, Waterford\, MI
END:VEVENT
END:VCALENDAR
