BEGIN:VCALENDAR
VERSION:2.0
PRODID:-//AudioTheme 2.3.8
BEGIN:VEVENT
UID:urn:uuid:0d71dd30-36af-418e-aa6f-45806075f2f0
URL:https://mitchmcvicker.com/concerts/gig-1323/
DTSTART;VALUE=DATE:20140904
SUMMARY:Vincennes University Christian Campus Fellowship
LOCATION:Vincennes University Christian Campus Fellowship\, Vincennes\, IN
END:VEVENT
END:VCALENDAR
