BEGIN:VCALENDAR
VERSION:2.0
PRODID:-//AudioTheme 2.3.8
BEGIN:VEVENT
UID:urn:uuid:fbcb4bb0-0179-4785-a10b-4f5a0b5092d3
URL:https://mitchmcvicker.com/concerts/gig-1321/
DTSTART;VALUE=DATE:20140831
SUMMARY:Jubilee Presbyterian Church
LOCATION:Jubilee Presbyterian Church\, Valley Center\, KS
END:VEVENT
END:VCALENDAR
