BEGIN:VCALENDAR
VERSION:2.0
PRODID:-//AudioTheme 2.3.8
BEGIN:VEVENT
UID:urn:uuid:37d742c9-7848-4775-9c7b-714e42b0b51e
URL:https://mitchmcvicker.com/concerts/gig-1319/
DTSTART;VALUE=DATE:20140831
SUMMARY:Woodland Lake Community Church
LOCATION:Woodland Lake Community Church\, Wichita\, KS
END:VEVENT
END:VCALENDAR
