BEGIN:VCALENDAR
VERSION:2.0
PRODID:-//AudioTheme 2.3.8
BEGIN:VEVENT
UID:urn:uuid:315bf75d-a24a-4e2e-bced-b623bfd8780e
URL:https://mitchmcvicker.com/concerts/gig-1317/
DTSTART;VALUE=DATE:20140830
SUMMARY:The Change of Heart Music Festival
LOCATION:The Change of Heart Music Festival\, Crawfordsville\, IN
END:VEVENT
END:VCALENDAR
