BEGIN:VCALENDAR
VERSION:2.0
PRODID:-//AudioTheme 2.3.8
BEGIN:VEVENT
UID:urn:uuid:6e1eb193-a80c-49c2-83eb-5c7146da447f
URL:https://mitchmcvicker.com/concerts/gig-1315/
DTSTART;VALUE=DATE:20140803
SUMMARY:1316
LOCATION:1316\, 1800 Pear Orchard Road\, Elizabethtown\, Ohio\, United States\, 45840
END:VEVENT
END:VCALENDAR
