BEGIN:VCALENDAR
VERSION:2.0
PRODID:-//AudioTheme 2.3.8
BEGIN:VEVENT
UID:urn:uuid:d28c240f-c6b0-4eec-b898-9d9ce3de940e
URL:https://mitchmcvicker.com/concerts/gig-1311/
DTSTART;VALUE=DATE:20140802
SUMMARY:Higher Bound House
LOCATION:Higher Bound House\, Vincennes\, IN
END:VEVENT
END:VCALENDAR
