BEGIN:VCALENDAR
VERSION:2.0
PRODID:-//AudioTheme 2.3.8
BEGIN:VEVENT
UID:urn:uuid:c50083a2-0b28-41ba-bd1c-34b3a6daec36
URL:https://mitchmcvicker.com/concerts/gig-1309/
DTSTART;VALUE=DATE:20140727
SUMMARY:Inspiration Vines and Wine
LOCATION:Inspiration Vines and Wine\, Linn Grove\, IA
END:VEVENT
END:VCALENDAR
