BEGIN:VCALENDAR
VERSION:2.0
PRODID:-//AudioTheme 2.3.8
BEGIN:VEVENT
UID:urn:uuid:07aa0792-bb1e-4ed9-a748-775ff5f29f23
URL:https://mitchmcvicker.com/concerts/gig-1307/
DTSTART;VALUE=DATE:20140726
SUMMARY:Middle River Friends Church
LOCATION:Middle River Friends Church\, Carlisle\, IA
END:VEVENT
END:VCALENDAR
