BEGIN:VCALENDAR
VERSION:2.0
PRODID:-//AudioTheme 2.3.8
BEGIN:VEVENT
UID:urn:uuid:8d46f223-8548-46c8-9da3-98ad4d863eba
URL:https://mitchmcvicker.com/concerts/gig-1306/
DTSTART;VALUE=DATE:20140725
SUMMARY:Indian Creek Baptist Camp
LOCATION:Indian Creek Baptist Camp\, Bedford\, IN
END:VEVENT
END:VCALENDAR
