BEGIN:VCALENDAR
VERSION:2.0
PRODID:-//AudioTheme 2.3.8
BEGIN:VEVENT
UID:urn:uuid:acc99532-7826-45c4-9e0a-5493a487ea7c
URL:https://mitchmcvicker.com/concerts/gig-1304/
DTSTART;VALUE=DATE:20140724
SUMMARY:Harvester Christian Church
LOCATION:Harvester Christian Church\, St. Charles\, MO
END:VEVENT
END:VCALENDAR
