BEGIN:VCALENDAR
VERSION:2.0
PRODID:-//AudioTheme 2.3.8
BEGIN:VEVENT
UID:urn:uuid:2fd0a630-d26f-4c0d-aa3b-84e27affcfa0
URL:https://mitchmcvicker.com/concerts/gig-1300/
DTSTART;VALUE=DATE:20140710
SUMMARY:Bethel Church
LOCATION:Bethel Church\, North Platte\, NE
END:VEVENT
END:VCALENDAR
