BEGIN:VCALENDAR
VERSION:2.0
PRODID:-//AudioTheme 2.3.8
BEGIN:VEVENT
UID:urn:uuid:84ebe744-a53c-40fd-b982-5c5ba209169d
URL:https://mitchmcvicker.com/concerts/gig-1297/
DTSTART;VALUE=DATE:20140629
SUMMARY:Salina Heights Christian Church
LOCATION:Salina Heights Christian Church\, Salina\, KS
END:VEVENT
END:VCALENDAR
