BEGIN:VCALENDAR
VERSION:2.0
PRODID:-//AudioTheme 2.3.8
BEGIN:VEVENT
UID:urn:uuid:5a58720b-c809-4c0e-bd08-01099cce5df5
URL:https://mitchmcvicker.com/concerts/gig-1295/
DTSTART;VALUE=DATE:20140627
SUMMARY:Oakland Heights Baptist Church
LOCATION:Oakland Heights Baptist Church\, Longview\, TX
END:VEVENT
END:VCALENDAR
