BEGIN:VCALENDAR
VERSION:2.0
PRODID:-//AudioTheme 2.3.8
BEGIN:VEVENT
UID:urn:uuid:04952003-f57c-48be-8a16-aeb937e8e488
URL:https://mitchmcvicker.com/concerts/gig-1293/
DTSTART;VALUE=DATE:20140625
SUMMARY:Mosaic Church
LOCATION:Mosaic Church\, Highland\, IL
END:VEVENT
END:VCALENDAR
