BEGIN:VCALENDAR
VERSION:2.0
PRODID:-//AudioTheme 2.3.8
BEGIN:VEVENT
UID:urn:uuid:38fcec87-a06e-4cb1-87cc-2d54f94c0f97
URL:https://mitchmcvicker.com/concerts/gig-1291/
DTSTART;VALUE=DATE:20140624
SUMMARY:Life Church
LOCATION:Life Church\, Fenton\, MO
END:VEVENT
END:VCALENDAR
