BEGIN:VCALENDAR
VERSION:2.0
PRODID:-//AudioTheme 2.3.8
BEGIN:VEVENT
UID:urn:uuid:996a6473-a5c9-4857-95a8-f85439a944aa
URL:https://mitchmcvicker.com/concerts/gig-1290/
DTSTART;VALUE=DATE:20140615
SUMMARY:Westchester UMC
LOCATION:Westchester UMC\, Portland\, IN
END:VEVENT
END:VCALENDAR
