BEGIN:VCALENDAR
VERSION:2.0
PRODID:-//AudioTheme 2.3.8
BEGIN:VEVENT
UID:urn:uuid:31f45ee4-fd87-48ef-bbd4-6045ddd13abf
URL:https://mitchmcvicker.com/concerts/gig-1289/
DTSTART;VALUE=DATE:20140615
SUMMARY:Mt. Zion UMC
LOCATION:Mt. Zion UMC\, Celina\, OH
END:VEVENT
END:VCALENDAR
