BEGIN:VCALENDAR
VERSION:2.0
PRODID:-//AudioTheme 2.3.8
BEGIN:VEVENT
UID:urn:uuid:4d543224-30ca-497d-bd0b-a8af0a50224c
URL:https://mitchmcvicker.com/concerts/gig-1287/
DTSTART;VALUE=DATE:20140612
SUMMARY:Mt. Orab Village Park
LOCATION:Mt. Orab Village Park\, Mt. Orab\, OH
END:VEVENT
END:VCALENDAR
