BEGIN:VCALENDAR
VERSION:2.0
PRODID:-//AudioTheme 2.3.8
BEGIN:VEVENT
UID:urn:uuid:9077c644-0ecf-4279-92cc-071bb76d6e25
URL:https://mitchmcvicker.com/concerts/gig-1285/
DTSTART;VALUE=DATE:20140601
SUMMARY:Eastview Baptist Church
LOCATION:Eastview Baptist Church\, Belleville\, IL
END:VEVENT
END:VCALENDAR
